BEGIN:VCALENDAR
VERSION:2.0
PRODID:-//casakc.org//NONSGML kigkonsult.se iCalcreator 2.30.10//
CALSCALE:GREGORIAN
METHOD:PUBLISH
UID:483fa7f4-3416-47fb-9f49-c79337e55cc8
X-WR-CALDESC:
X-WR-RELCALID:5bcff6e14ed2eef84fe9acad2b628166
X-WR-TIMEZONE:America/Chicago
BEGIN:VTIMEZONE
TZID:America/Chicago
BEGIN:STANDARD
TZNAME:CST
DTSTART:20241103T020000
TZOFFSETFROM:-0500
TZOFFSETTO:-0600
RDATE:20251102T020000
RDATE:20261101T020000
END:STANDARD
BEGIN:DAYLIGHT
TZNAME:CDT
DTSTART:20250309T020000
TZOFFSETFROM:-0600
TZOFFSETTO:-0500
RDATE:20260308T020000
END:DAYLIGHT
END:VTIMEZONE
BEGIN:VEVENT
UID:78f2f001-b7d0-4e4f-be3c-7d994a854ca1
DTSTAMP:20260422T224030Z
DESCRIPTION:
DTSTART;TZID=America/Chicago:20250619T050000
DTEND;TZID=America/Chicago:20250619T050001
LOCATION:
SUMMARY:CASA Office Closed: Juneteenth
END:VEVENT
END:VCALENDAR
