BEGIN:VCALENDAR
VERSION:2.0
PRODID:-//casakc.org//NONSGML kigkonsult.se iCalcreator 2.30.10//
CALSCALE:GREGORIAN
METHOD:PUBLISH
UID:19a14d92-28c2-4071-9a4e-b74366ebb602
X-WR-CALDESC:These monthly forums provide an opportunity to meet other CASA
  Volunteers\, hear from CASA staff\, and ask questions about your case. Th
 is forum will be held virtually via Microsoft Teams. \n\nTo access the lin
 k\, RSVP via Evite\, check the volunteer newsletter\, or contact your Advo
 cate Supervisor.
X-WR-RELCALID:ecfd51d3d994ed4bbaae811695c9e547
X-WR-TIMEZONE:America/Chicago
BEGIN:VTIMEZONE
TZID:America/Chicago
BEGIN:STANDARD
TZNAME:CST
DTSTART:20241103T020000
TZOFFSETFROM:-0500
TZOFFSETTO:-0600
RDATE:20251102T020000
RDATE:20261101T020000
END:STANDARD
BEGIN:DAYLIGHT
TZNAME:CDT
DTSTART:20250309T020000
TZOFFSETFROM:-0600
TZOFFSETTO:-0500
RDATE:20260308T020000
END:DAYLIGHT
END:VTIMEZONE
BEGIN:VEVENT
UID:f313540a-c3d2-4a4e-97ca-36b24c5c9f9d
DTSTAMP:20260422T230502Z
DESCRIPTION:These monthly forums provide an opportunity to meet other CASA 
 Volunteers\, hear from CASA staff\, and ask questions about your case. Thi
 s forum will be held virtually via Microsoft Teams. \n\nTo access the link
 \, RSVP via Evite\, check the volunteer newsletter\, or contact your Advoc
 ate Supervisor.
DTSTART;TZID=America/Chicago:20250624T120000
DTEND;TZID=America/Chicago:20250624T130000
LOCATION:
SUMMARY:June Virtual Volunteer Forum
END:VEVENT
END:VCALENDAR
