BEGIN:VCALENDAR
VERSION:2.0
PRODID:-//casakc.org//NONSGML kigkonsult.se iCalcreator 2.30.10//
CALSCALE:GREGORIAN
METHOD:PUBLISH
UID:1daa0e31-8988-4da9-a329-7718135f38cd
X-WR-CALDESC:Learn how you can make a positive difference in the life of a 
 young person by becoming a CASA Volunteer.  Hera from some of our Black an
 d LGBTQIA+ youth who are affected by the child welfare system. Members of 
 the CASA Older Youth Committee will discuss their experiences with the int
 ersectionality of being in care and their identities. CASA will be present
 ing and the youth will discuss the importance of having volunteers who are
  allies at this event.  \n \n
X-WR-RELCALID:e7b669815e5159a245527dbf59f392b0
X-WR-TIMEZONE:America/Chicago
BEGIN:VTIMEZONE
TZID:America/Chicago
BEGIN:STANDARD
TZNAME:CST
DTSTART:20241103T020000
TZOFFSETFROM:-0500
TZOFFSETTO:-0600
RDATE:20251102T020000
RDATE:20261101T020000
END:STANDARD
BEGIN:DAYLIGHT
TZNAME:CDT
DTSTART:20250309T020000
TZOFFSETFROM:-0600
TZOFFSETTO:-0500
RDATE:20260308T020000
END:DAYLIGHT
END:VTIMEZONE
BEGIN:VEVENT
UID:08dc572e-00b3-4a00-aed9-29e3211683ed
DTSTAMP:20260422T230435Z
DESCRIPTION:Learn how you can make a positive difference in the life of a y
 oung person by becoming a CASA Volunteer.  Hera from some of our Black and
  LGBTQIA+ youth who are affected by the child welfare system. Members of t
 he CASA Older Youth Committee will discuss their experiences with the inte
 rsectionality of being in care and their identities. CASA will be presenti
 ng and the youth will discuss the importance of having volunteers who are 
 allies at this event.  \n \n
DTSTART;TZID=America/Chicago:20250625T173000
DTEND;TZID=America/Chicago:20250625T190000
LOCATION:6425 Wornall Rd\, Kansas City\, MO 64113 US
SUMMARY:From Protection to Power: Uplifting Black & Queer Youth in Child We
 lfare\, presented by the CASA House Committee
END:VEVENT
END:VCALENDAR
