BEGIN:VCALENDAR
VERSION:2.0
PRODID:-//casakc.org//NONSGML kigkonsult.se iCalcreator 2.30.10//
CALSCALE:GREGORIAN
METHOD:PUBLISH
UID:09bff3e8-760b-4442-9f61-b67a7ab0c62a
X-WR-CALDESC:
X-WR-RELCALID:53914aae0c2cda09cedbed89658f8bef
X-WR-TIMEZONE:America/Chicago
BEGIN:VTIMEZONE
TZID:America/Chicago
BEGIN:STANDARD
TZNAME:CST
DTSTART:20241103T020000
TZOFFSETFROM:-0500
TZOFFSETTO:-0600
RDATE:20251102T020000
RDATE:20261101T020000
END:STANDARD
BEGIN:DAYLIGHT
TZNAME:CDT
DTSTART:20250309T020000
TZOFFSETFROM:-0600
TZOFFSETTO:-0500
RDATE:20260308T020000
END:DAYLIGHT
END:VTIMEZONE
BEGIN:VEVENT
UID:d56c9034-c6c3-4cb2-bf7f-a38c60d101de
DTSTAMP:20260422T230325Z
DESCRIPTION:
DTSTART;TZID=America/Chicago:20250627T120000
DTEND;TZID=America/Chicago:20250627T130000
LOCATION:
SUMMARY:Board Meeting
END:VEVENT
END:VCALENDAR
