BEGIN:VCALENDAR
VERSION:2.0
PRODID:-//casakc.org//NONSGML kigkonsult.se iCalcreator 2.30.10//
CALSCALE:GREGORIAN
METHOD:PUBLISH
UID:477b117b-1c55-493b-954a-98a585d03d29
X-WR-CALDESC:
X-WR-RELCALID:a81eb83f787053216e562defa5502b00
X-WR-TIMEZONE:America/Chicago
BEGIN:VTIMEZONE
TZID:America/Chicago
BEGIN:STANDARD
TZNAME:CST
DTSTART:20241103T020000
TZOFFSETFROM:-0500
TZOFFSETTO:-0600
RDATE:20251102T020000
RDATE:20261101T020000
END:STANDARD
BEGIN:DAYLIGHT
TZNAME:CDT
DTSTART:20250309T020000
TZOFFSETFROM:-0600
TZOFFSETTO:-0500
RDATE:20260308T020000
END:DAYLIGHT
END:VTIMEZONE
BEGIN:VEVENT
UID:883a24ed-ce5c-4c72-b568-9bc352d8ace7
DTSTAMP:20260422T225849Z
DESCRIPTION:
DTSTART;TZID=America/Chicago:20250629T120000
DTEND;TZID=America/Chicago:20250629T160000
LOCATION:10600 Raytown Rd\, Kansas City\, MO 64134 US
SUMMARY:Carnival for CASA
END:VEVENT
END:VCALENDAR
