BEGIN:VCALENDAR
VERSION:2.0
PRODID:-//casakc.org//NONSGML kigkonsult.se iCalcreator 2.30.10//
CALSCALE:GREGORIAN
METHOD:PUBLISH
UID:0c5b2166-e490-49ee-83db-74a166f3f052
X-WR-CALDESC:
X-WR-RELCALID:e6a10800120139f6a9cbc5fa600d81cf
X-WR-TIMEZONE:America/Chicago
BEGIN:VTIMEZONE
TZID:America/Chicago
BEGIN:STANDARD
TZNAME:CST
DTSTART:20241103T020000
TZOFFSETFROM:-0500
TZOFFSETTO:-0600
RDATE:20251102T020000
RDATE:20261101T020000
END:STANDARD
BEGIN:DAYLIGHT
TZNAME:CDT
DTSTART:20250309T020000
TZOFFSETFROM:-0600
TZOFFSETTO:-0500
RDATE:20260308T020000
END:DAYLIGHT
END:VTIMEZONE
BEGIN:VEVENT
UID:144d54e3-d40a-48c5-9c15-7bd8bac58d86
DTSTAMP:20260422T212511Z
DESCRIPTION:
DTSTART;TZID=America/Chicago:20250704T050000
DTEND;TZID=America/Chicago:20250704T050001
LOCATION:
SUMMARY:CASA Office Closed: Independence Day
END:VEVENT
END:VCALENDAR
