BEGIN:VCALENDAR
VERSION:2.0
PRODID:-//casakc.org//NONSGML kigkonsult.se iCalcreator 2.30.10//
CALSCALE:GREGORIAN
METHOD:PUBLISH
UID:f4f8913d-ddbd-46f2-afc3-a8c6c26e89f1
X-WR-CALDESC:You're invited to CASA Book Club on Thursday\, July 10\, at 5:
 30 p.m. at the CASA office. During this meeting\, we will discuss Weatheri
 ng: The Extraordinary Stress of Ordinary Life in an Unjust Society by Arli
 ne T. Geronimus.\n\nSnacks and drinks will be provided! If you're part of 
 a personal book club or have family or friends who would like to join\, pl
 ease let us know and invite them to participate.
X-WR-RELCALID:728f03ab8689006ad74d9a6334b45b2a
X-WR-TIMEZONE:America/Chicago
BEGIN:VTIMEZONE
TZID:America/Chicago
BEGIN:STANDARD
TZNAME:CST
DTSTART:20241103T020000
TZOFFSETFROM:-0500
TZOFFSETTO:-0600
RDATE:20251102T020000
RDATE:20261101T020000
END:STANDARD
BEGIN:DAYLIGHT
TZNAME:CDT
DTSTART:20250309T020000
TZOFFSETFROM:-0600
TZOFFSETTO:-0500
RDATE:20260308T020000
END:DAYLIGHT
END:VTIMEZONE
BEGIN:VEVENT
UID:0cbf3de2-83a5-4d6f-8f3d-3568b8c7c6f2
DTSTAMP:20260422T212617Z
DESCRIPTION:You're invited to CASA Book Club on Thursday\, July 10\, at 5:3
 0 p.m. at the CASA office. During this meeting\, we will discuss Weatherin
 g: The Extraordinary Stress of Ordinary Life in an Unjust Society by Arlin
 e T. Geronimus.\n\nSnacks and drinks will be provided! If you're part of a
  personal book club or have family or friends who would like to join\, ple
 ase let us know and invite them to participate.
DTSTART;TZID=America/Chicago:20250710T173000
DTEND;TZID=America/Chicago:20250710T190000
LOCATION:2544 Holmes\, Kansas City\, MO 64108 US
SUMMARY:CASA Book Club: Weathering
END:VEVENT
END:VCALENDAR
