BEGIN:VCALENDAR
VERSION:2.0
PRODID:-//casakc.org//NONSGML kigkonsult.se iCalcreator 2.30.10//
CALSCALE:GREGORIAN
METHOD:PUBLISH
UID:a58f8a9b-7613-4a28-861b-ab49e5569d96
X-WR-CALDESC:These monthly forums provide an opportunity to meet other CASA
  Volunteers\, hear from CASA staff\, and ask questions about your case. Th
 is forum will be held at the CASA office.
X-WR-RELCALID:80a4b82497be41f597367bc8005c7ec7
X-WR-TIMEZONE:America/Chicago
BEGIN:VTIMEZONE
TZID:America/Chicago
BEGIN:STANDARD
TZNAME:CST
DTSTART:20241103T020000
TZOFFSETFROM:-0500
TZOFFSETTO:-0600
RDATE:20251102T020000
RDATE:20261101T020000
END:STANDARD
BEGIN:DAYLIGHT
TZNAME:CDT
DTSTART:20250309T020000
TZOFFSETFROM:-0600
TZOFFSETTO:-0500
RDATE:20260308T020000
END:DAYLIGHT
END:VTIMEZONE
BEGIN:VEVENT
UID:92285822-3c79-4a40-b06a-893dd1f7f5b0
DTSTAMP:20260422T213305Z
DESCRIPTION:These monthly forums provide an opportunity to meet other CASA 
 Volunteers\, hear from CASA staff\, and ask questions about your case. Thi
 s forum will be held at the CASA office.
DTSTART;TZID=America/Chicago:20250717T120000
DTEND;TZID=America/Chicago:20250717T130000
LOCATION:2544 Holmes\, Kansas City\, MO 64108 US
SUMMARY:July In-Person Volunteer Forum
END:VEVENT
END:VCALENDAR
