BEGIN:VCALENDAR
VERSION:2.0
PRODID:-//casakc.org//NONSGML kigkonsult.se iCalcreator 2.30.10//
CALSCALE:GREGORIAN
METHOD:PUBLISH
UID:837eadb3-6205-4b0f-8155-3ffdc107675a
X-WR-CALDESC:
X-WR-RELCALID:377271978f43ef9c98adf2eed13f10a1
X-WR-TIMEZONE:America/Chicago
BEGIN:VTIMEZONE
TZID:America/Chicago
BEGIN:STANDARD
TZNAME:CST
DTSTART:20241103T020000
TZOFFSETFROM:-0500
TZOFFSETTO:-0600
RDATE:20251102T020000
RDATE:20261101T020000
END:STANDARD
BEGIN:DAYLIGHT
TZNAME:CDT
DTSTART:20250309T020000
TZOFFSETFROM:-0600
TZOFFSETTO:-0500
RDATE:20260308T020000
END:DAYLIGHT
END:VTIMEZONE
BEGIN:VEVENT
UID:9ab067cf-7c4d-4d5c-a379-512f1255a895
DTSTAMP:20260422T212731Z
DESCRIPTION:
DTSTART;TZID=America/Chicago:20250725T120000
DTEND;TZID=America/Chicago:20250725T130000
LOCATION:
SUMMARY:Board Meeting
END:VEVENT
END:VCALENDAR
