BEGIN:VCALENDAR
VERSION:2.0
PRODID:-//casakc.org//NONSGML kigkonsult.se iCalcreator 2.30.10//
CALSCALE:GREGORIAN
METHOD:PUBLISH
UID:8b492e18-9dd5-42a5-9820-7c2a8c909cdc
X-WR-CALDESC:Are you interested in becoming a CASA Volunteer to advocate fo
 r a child or children in the Jackson County Family Court system? To learn 
 about the role and how to become a CASA Volunteer\, visit https://casakc.o
 rg/volunteer/become-a-casa.html.
X-WR-RELCALID:e00afde6ce393e5b78682d1a0e4fd367
X-WR-TIMEZONE:America/Chicago
BEGIN:VTIMEZONE
TZID:America/Chicago
BEGIN:STANDARD
TZNAME:CST
DTSTART:20241103T020000
TZOFFSETFROM:-0500
TZOFFSETTO:-0600
RDATE:20251102T020000
RDATE:20261101T020000
END:STANDARD
BEGIN:DAYLIGHT
TZNAME:CDT
DTSTART:20250309T020000
TZOFFSETFROM:-0600
TZOFFSETTO:-0500
RDATE:20260308T020000
END:DAYLIGHT
END:VTIMEZONE
BEGIN:VEVENT
UID:531b170e-6480-4cfa-870d-18f8117e8a03
DTSTAMP:20260422T212455Z
DESCRIPTION:Are you interested in becoming a CASA Volunteer to advocate for
  a child or children in the Jackson County Family Court system? To learn a
 bout the role and how to become a CASA Volunteer\, visit https://casakc.or
 g/volunteer/become-a-casa.html.
DTSTART;TZID=America/Chicago:20250731T170000
DTEND;TZID=America/Chicago:20250731T200000
LOCATION:2544 Holmes\, Kansas City\, MO 64108 US
SUMMARY:July Pre-Service Volunteer Training - Session 6
END:VEVENT
END:VCALENDAR
