BEGIN:VCALENDAR
VERSION:2.0
PRODID:-//casakc.org//NONSGML kigkonsult.se iCalcreator 2.30.10//
CALSCALE:GREGORIAN
METHOD:PUBLISH
UID:603e1bda-9a21-48d7-89b7-b9cc9ad66f88
X-WR-CALDESC:
X-WR-RELCALID:86688c3e1f8a5ece199dac4e47b66183
X-WR-TIMEZONE:America/Chicago
BEGIN:VTIMEZONE
TZID:America/Chicago
BEGIN:STANDARD
TZNAME:CST
DTSTART:20241103T020000
TZOFFSETFROM:-0500
TZOFFSETTO:-0600
RDATE:20251102T020000
RDATE:20261101T020000
END:STANDARD
BEGIN:DAYLIGHT
TZNAME:CDT
DTSTART:20250309T020000
TZOFFSETFROM:-0600
TZOFFSETTO:-0500
RDATE:20260308T020000
END:DAYLIGHT
END:VTIMEZONE
BEGIN:VEVENT
UID:8b93824e-1725-41c7-be38-691ef170b8d3
DTSTAMP:20260422T200114Z
DESCRIPTION:
DTSTART;TZID=America/Chicago:20250814T173000
DTEND;TZID=America/Chicago:20250814T190000
LOCATION:2544 Holmes\, Kansas City\, MO 64108 US
SUMMARY:Nuts & Bolts Training: Services in Jackson County
END:VEVENT
END:VCALENDAR
