BEGIN:VCALENDAR
VERSION:2.0
PRODID:-//casakc.org//NONSGML kigkonsult.se iCalcreator 2.30.10//
CALSCALE:GREGORIAN
METHOD:PUBLISH
UID:ddd92713-303d-45bd-a52b-ae01391988bf
X-WR-CALDESC:You're invited to the final CASA Volunteer Book Club meeting o
 f 2025 on Tuesday\, October 7\, from 5:30 - 7 p.m. at the CASA office. Dur
 ing this meeting\, we will discuss Killers of the Flower Moon: The Osage M
 urders and the Birth of the FBI.\n\nSnacks and drinks will be provided! If
  you're part of a personal book club or have family or friends who would l
 ike to join\, please let us know and invite them to participate!
X-WR-RELCALID:69f73c9e89772bf7ccdddbf9b77e14aa
X-WR-TIMEZONE:America/Chicago
BEGIN:VTIMEZONE
TZID:America/Chicago
BEGIN:STANDARD
TZNAME:CST
DTSTART:20241103T020000
TZOFFSETFROM:-0500
TZOFFSETTO:-0600
RDATE:20251102T020000
RDATE:20261101T020000
END:STANDARD
BEGIN:DAYLIGHT
TZNAME:CDT
DTSTART:20250309T020000
TZOFFSETFROM:-0600
TZOFFSETTO:-0500
RDATE:20260308T020000
RDATE:20270314T020000
END:DAYLIGHT
END:VTIMEZONE
BEGIN:VEVENT
UID:8fac4335-8673-4727-9427-81e440d08ae9
DTSTAMP:20260422T165729Z
DESCRIPTION:You're invited to the final CASA Volunteer Book Club meeting of
  2025 on Tuesday\, October 7\, from 5:30 - 7 p.m. at the CASA office. Duri
 ng this meeting\, we will discuss Killers of the Flower Moon: The Osage Mu
 rders and the Birth of the FBI.\n\nSnacks and drinks will be provided! If 
 you're part of a personal book club or have family or friends who would li
 ke to join\, please let us know and invite them to participate!
DTSTART;TZID=America/Chicago:20251007T173000
DTEND;TZID=America/Chicago:20251007T190000
LOCATION:2544 Holmes\, Kansas City\, MO 64108 US
SUMMARY:CASA Book Club: Killers of the Flower Moon
END:VEVENT
END:VCALENDAR
