BEGIN:VCALENDAR
VERSION:2.0
PRODID:-//casakc.org//NONSGML kigkonsult.se iCalcreator 2.30.10//
CALSCALE:GREGORIAN
METHOD:PUBLISH
UID:7cf4e217-1a11-451d-a73e-4d54c8d88140
X-WR-CALDESC:
X-WR-RELCALID:45d6d8e0afacbd1d131d021035877c24
X-WR-TIMEZONE:America/Chicago
BEGIN:VTIMEZONE
TZID:America/Chicago
BEGIN:STANDARD
TZNAME:CST
DTSTART:20241103T020000
TZOFFSETFROM:-0500
TZOFFSETTO:-0600
RDATE:20251102T020000
RDATE:20261101T020000
END:STANDARD
BEGIN:DAYLIGHT
TZNAME:CDT
DTSTART:20250309T020000
TZOFFSETFROM:-0600
TZOFFSETTO:-0500
RDATE:20260308T020000
RDATE:20270314T020000
END:DAYLIGHT
END:VTIMEZONE
BEGIN:VEVENT
UID:a87a6c41-0817-4cd1-82e4-9d4c700af5d6
DTSTAMP:20260422T165440Z
DESCRIPTION:
DTSTART;TZID=America/Chicago:20251013T050000
DTEND;TZID=America/Chicago:20251013T050001
LOCATION:
SUMMARY:CASA Office Closed: Indigenous Peoples' Day
END:VEVENT
END:VCALENDAR
