BEGIN:VCALENDAR
VERSION:2.0
PRODID:-//casakc.org//NONSGML kigkonsult.se iCalcreator 2.30.10//
CALSCALE:GREGORIAN
METHOD:PUBLISH
UID:e99429fc-f1c7-4961-b6fe-83df061de130
X-WR-CALDESC:These monthly forums provide an opportunity to meet other CASA
  Volunteers\, hear from CASA staff\, and ask questions about your case. Th
 is forum will be held virtually via Microsoft Teams. \n\nTo access the lin
 k\, RSVP via Evite\, check the volunteer newsletter\, or contact your Advo
 cate Supervisor.
X-WR-RELCALID:1180e59cae0a2daf9b1c28ed4014090b
X-WR-TIMEZONE:America/Chicago
BEGIN:VTIMEZONE
TZID:America/Chicago
BEGIN:STANDARD
TZNAME:CST
DTSTART:20241103T020000
TZOFFSETFROM:-0500
TZOFFSETTO:-0600
RDATE:20251102T020000
RDATE:20261101T020000
END:STANDARD
BEGIN:DAYLIGHT
TZNAME:CDT
DTSTART:20250309T020000
TZOFFSETFROM:-0600
TZOFFSETTO:-0500
RDATE:20260308T020000
RDATE:20270314T020000
END:DAYLIGHT
END:VTIMEZONE
BEGIN:VEVENT
UID:cdcd6167-e1d3-4e30-852b-2126afe9671f
DTSTAMP:20260422T165244Z
DESCRIPTION:These monthly forums provide an opportunity to meet other CASA 
 Volunteers\, hear from CASA staff\, and ask questions about your case. Thi
 s forum will be held virtually via Microsoft Teams. \n\nTo access the link
 \, RSVP via Evite\, check the volunteer newsletter\, or contact your Advoc
 ate Supervisor.
DTSTART;TZID=America/Chicago:20251020T120000
DTEND;TZID=America/Chicago:20251020T130000
LOCATION:
SUMMARY:October Virtual Volunteer Forum
END:VEVENT
END:VCALENDAR
