BEGIN:VCALENDAR
VERSION:2.0
PRODID:-//casakc.org//NONSGML kigkonsult.se iCalcreator 2.30.10//
CALSCALE:GREGORIAN
METHOD:PUBLISH
UID:e2274822-6e4e-489a-ac3b-d7dda33ff7d0
X-WR-CALDESC:
X-WR-RELCALID:63d898c08275641c7e4c5ed1fefe45cb
X-WR-TIMEZONE:America/Chicago
BEGIN:VTIMEZONE
TZID:America/Chicago
BEGIN:STANDARD
TZNAME:CST
DTSTART:20241103T020000
TZOFFSETFROM:-0500
TZOFFSETTO:-0600
RDATE:20251102T020000
RDATE:20261101T020000
END:STANDARD
BEGIN:DAYLIGHT
TZNAME:CDT
DTSTART:20250309T020000
TZOFFSETFROM:-0600
TZOFFSETTO:-0500
RDATE:20260308T020000
RDATE:20270314T020000
END:DAYLIGHT
END:VTIMEZONE
BEGIN:VEVENT
UID:ebbadafe-10fc-46b4-a505-598c806dbe39
DTSTAMP:20260422T165612Z
DESCRIPTION:
DTSTART;TZID=America/Chicago:20251024T120000
DTEND;TZID=America/Chicago:20251024T130000
LOCATION:
SUMMARY:Board Meeting
END:VEVENT
END:VCALENDAR
