BEGIN:VCALENDAR
VERSION:2.0
PRODID:-//casakc.org//NONSGML kigkonsult.se iCalcreator 2.30.10//
CALSCALE:GREGORIAN
METHOD:PUBLISH
UID:e17d9f94-3a06-4fc7-9703-b332178895ad
X-WR-CALDESC:
X-WR-RELCALID:8dcda704a863b2f3cae67badb09fd47c
X-WR-TIMEZONE:America/Chicago
BEGIN:VTIMEZONE
TZID:America/Chicago
BEGIN:STANDARD
TZNAME:CST
DTSTART:20251102T020000
TZOFFSETFROM:-0500
TZOFFSETTO:-0600
RDATE:20261101T020000
END:STANDARD
BEGIN:DAYLIGHT
TZNAME:CDT
DTSTART:20250309T020000
TZOFFSETFROM:-0600
TZOFFSETTO:-0500
RDATE:20260308T020000
RDATE:20270314T020000
END:DAYLIGHT
END:VTIMEZONE
BEGIN:VEVENT
UID:7e4385dd-650d-4b6b-91ee-0d72803ee765
DTSTAMP:20260422T150933Z
DESCRIPTION:
DTSTART;TZID=America/Chicago:20251127T050000
DTEND;TZID=America/Chicago:20251128T050001
LOCATION:
SUMMARY:CASA Office Closed: Thanksgiving
END:VEVENT
END:VCALENDAR
