BEGIN:VCALENDAR
VERSION:2.0
PRODID:-//casakc.org//NONSGML kigkonsult.se iCalcreator 2.30.10//
CALSCALE:GREGORIAN
METHOD:PUBLISH
UID:e9f5395c-2a24-4ee5-a2ae-101d590fe518
X-WR-CALDESC:
X-WR-RELCALID:031b158041a7c18b5e65c28766a9a53b
X-WR-TIMEZONE:America/Chicago
BEGIN:VTIMEZONE
TZID:America/Chicago
BEGIN:STANDARD
TZNAME:CST
DTSTART:20251102T020000
TZOFFSETFROM:-0500
TZOFFSETTO:-0600
RDATE:20261101T020000
END:STANDARD
BEGIN:DAYLIGHT
TZNAME:CDT
DTSTART:20250309T020000
TZOFFSETFROM:-0600
TZOFFSETTO:-0500
RDATE:20260308T020000
RDATE:20270314T020000
END:DAYLIGHT
END:VTIMEZONE
BEGIN:VEVENT
UID:94795f92-1a8d-44a5-8a07-aafa28aec3a0
DTSTAMP:20260422T151056Z
DESCRIPTION:
DTSTART;TZID=America/Chicago:20251128T120000
DTEND;TZID=America/Chicago:20251128T130000
LOCATION:
SUMMARY:Board Meeting
END:VEVENT
END:VCALENDAR
