BEGIN:VCALENDAR
VERSION:2.0
PRODID:-//casakc.org//NONSGML kigkonsult.se iCalcreator 2.30.10//
CALSCALE:GREGORIAN
METHOD:PUBLISH
UID:bca0381a-fcd1-4628-93d1-4669c0949b55
X-WR-CALDESC:Are you interested in becoming a CASA Volunteer to advocate fo
 r a child or children in the Jackson County Family Court system? To learn 
 about the role and how to become a CASA Volunteer\, visit https://casakc.o
 rg/volunteer/become-a-casa.html.
X-WR-RELCALID:7959622e6c6ff3ab5b14aa48bf428f67
X-WR-TIMEZONE:America/Chicago
BEGIN:VTIMEZONE
TZID:America/Chicago
BEGIN:STANDARD
TZNAME:CST
DTSTART:20251102T020000
TZOFFSETFROM:-0500
TZOFFSETTO:-0600
RDATE:20261101T020000
END:STANDARD
BEGIN:DAYLIGHT
TZNAME:CDT
DTSTART:20250309T020000
TZOFFSETFROM:-0600
TZOFFSETTO:-0500
RDATE:20260308T020000
RDATE:20270314T020000
END:DAYLIGHT
END:VTIMEZONE
BEGIN:VEVENT
UID:a16289b4-ee5b-4968-bccd-92777f841f95
DTSTAMP:20260422T133559Z
DESCRIPTION:Are you interested in becoming a CASA Volunteer to advocate for
  a child or children in the Jackson County Family Court system? To learn a
 bout the role and how to become a CASA Volunteer\, visit https://casakc.or
 g/volunteer/become-a-casa.html.
DTSTART;TZID=America/Chicago:20251211T090000
DTEND;TZID=America/Chicago:20251211T180000
LOCATION:2544 Holmes\, Kansas City\, MO 64108 US
SUMMARY:December Pre-Service Volunteer Training Boot Camp
END:VEVENT
END:VCALENDAR
