BEGIN:VCALENDAR
VERSION:2.0
PRODID:-//casakc.org//NONSGML kigkonsult.se iCalcreator 2.30.10//
CALSCALE:GREGORIAN
METHOD:PUBLISH
UID:814d057f-83e7-43b3-818a-09ad3e75894d
X-WR-CALDESC:
X-WR-RELCALID:12d3c0a151b0a4748b1f867b298636ed
X-WR-TIMEZONE:America/Chicago
BEGIN:VTIMEZONE
TZID:America/Chicago
BEGIN:STANDARD
TZNAME:CST
DTSTART:20251102T020000
TZOFFSETFROM:-0500
TZOFFSETTO:-0600
RDATE:20261101T020000
END:STANDARD
BEGIN:DAYLIGHT
TZNAME:CDT
DTSTART:20250309T020000
TZOFFSETFROM:-0600
TZOFFSETTO:-0500
RDATE:20260308T020000
RDATE:20270314T020000
END:DAYLIGHT
END:VTIMEZONE
BEGIN:VEVENT
UID:b231a77b-66b6-4839-ad0e-34cc7ff01375
DTSTAMP:20260422T135010Z
DESCRIPTION:
DTSTART;TZID=America/Chicago:20251225T050000
DTEND;TZID=America/Chicago:20251225T050001
LOCATION:
SUMMARY:CASA Office Closed: Christmas Day
END:VEVENT
END:VCALENDAR
