BEGIN:VCALENDAR
VERSION:2.0
PRODID:-//casakc.org//NONSGML kigkonsult.se iCalcreator 2.30.10//
CALSCALE:GREGORIAN
METHOD:PUBLISH
UID:b4128999-6873-4586-9cfa-88ed949d99e6
X-WR-CALDESC:
X-WR-RELCALID:ddfd6bf76c8ed650c3e1e2121f549512
X-WR-TIMEZONE:America/Chicago
BEGIN:VTIMEZONE
TZID:America/Chicago
BEGIN:STANDARD
TZNAME:CST
DTSTART:20251102T020000
TZOFFSETFROM:-0500
TZOFFSETTO:-0600
RDATE:20261101T020000
END:STANDARD
BEGIN:DAYLIGHT
TZNAME:CDT
DTSTART:20250309T020000
TZOFFSETFROM:-0600
TZOFFSETTO:-0500
RDATE:20260308T020000
RDATE:20270314T020000
END:DAYLIGHT
END:VTIMEZONE
BEGIN:VEVENT
UID:4bf23272-2870-440e-ae4b-c5ff618f1e75
DTSTAMP:20260422T133925Z
DESCRIPTION:
DTSTART;TZID=America/Chicago:20251226T120000
DTEND;TZID=America/Chicago:20251226T130000
LOCATION:
SUMMARY:Board Meeting
END:VEVENT
END:VCALENDAR
