BEGIN:VCALENDAR
VERSION:2.0
PRODID:-//casakc.org//NONSGML kigkonsult.se iCalcreator 2.30.10//
CALSCALE:GREGORIAN
METHOD:PUBLISH
UID:fdee99ba-fe67-4b7b-bd25-71b0e7575ed8
X-WR-CALDESC:
X-WR-RELCALID:a96117afcaf18a216deefa090ef3e9fe
X-WR-TIMEZONE:America/Chicago
BEGIN:VTIMEZONE
TZID:America/Chicago
BEGIN:STANDARD
TZNAME:CST
DTSTART:20251102T020000
TZOFFSETFROM:-0500
TZOFFSETTO:-0600
RDATE:20261101T020000
END:STANDARD
BEGIN:DAYLIGHT
TZNAME:CDT
DTSTART:20250309T020000
TZOFFSETFROM:-0600
TZOFFSETTO:-0500
RDATE:20260308T020000
RDATE:20270314T020000
END:DAYLIGHT
END:VTIMEZONE
BEGIN:VEVENT
UID:5b0b3a92-a4c5-44bd-802f-39de97ff1923
DTSTAMP:20260422T135430Z
DESCRIPTION:
DTSTART;TZID=America/Chicago:20251230T120000
DTEND;TZID=America/Chicago:20251230T130000
LOCATION:2544 Holmes\, Kansas City\, MO 64108 US
SUMMARY:Nuts & Bolts Training: Self-Care\, Yoga\, & Mindfulness
END:VEVENT
END:VCALENDAR
