BEGIN:VCALENDAR
VERSION:2.0
PRODID:-//casakc.org//NONSGML kigkonsult.se iCalcreator 2.30.10//
CALSCALE:GREGORIAN
METHOD:PUBLISH
UID:c8005576-4e34-4375-b350-2805a272b448
X-WR-CALDESC:
X-WR-RELCALID:9c0321be8a37a08a62caa23e77b02c01
X-WR-TIMEZONE:America/Chicago
BEGIN:VTIMEZONE
TZID:America/Chicago
BEGIN:STANDARD
TZNAME:CST
DTSTART:20251102T020000
TZOFFSETFROM:-0500
TZOFFSETTO:-0600
RDATE:20261101T020000
END:STANDARD
BEGIN:DAYLIGHT
TZNAME:CDT
DTSTART:20250309T020000
TZOFFSETFROM:-0600
TZOFFSETTO:-0500
RDATE:20260308T020000
RDATE:20270314T020000
END:DAYLIGHT
END:VTIMEZONE
BEGIN:VEVENT
UID:ac351639-76aa-4453-8a4c-bddecb4ea8a2
DTSTAMP:20260422T120422Z
DESCRIPTION:
DTSTART;TZID=America/Chicago:20260123T120000
DTEND;TZID=America/Chicago:20260123T130000
LOCATION:
SUMMARY:Board Meeting
END:VEVENT
END:VCALENDAR
