BEGIN:VCALENDAR
VERSION:2.0
PRODID:-//casakc.org//NONSGML kigkonsult.se iCalcreator 2.30.10//
CALSCALE:GREGORIAN
METHOD:PUBLISH
UID:d1e803ac-a536-4ea8-a6f1-70c1b599e7aa
X-WR-CALDESC:
X-WR-RELCALID:4509930867e093df10964060e64ebcb9
X-WR-TIMEZONE:America/Chicago
BEGIN:VTIMEZONE
TZID:America/Chicago
BEGIN:STANDARD
TZNAME:CST
DTSTART:20251102T020000
TZOFFSETFROM:-0500
TZOFFSETTO:-0600
RDATE:20261101T020000
END:STANDARD
BEGIN:DAYLIGHT
TZNAME:CDT
DTSTART:20250309T020000
TZOFFSETFROM:-0600
TZOFFSETTO:-0500
RDATE:20260308T020000
RDATE:20270314T020000
END:DAYLIGHT
END:VTIMEZONE
BEGIN:VEVENT
UID:fc914af9-33dd-4fb7-85bf-b50c3947b895
DTSTAMP:20260422T102413Z
DESCRIPTION:
DTSTART;TZID=America/Chicago:20260227T120000
DTEND;TZID=America/Chicago:20260227T130000
LOCATION:
SUMMARY:Board Meeting
END:VEVENT
END:VCALENDAR
