BEGIN:VCALENDAR
VERSION:2.0
PRODID:-//casakc.org//NONSGML kigkonsult.se iCalcreator 2.30.10//
CALSCALE:GREGORIAN
METHOD:PUBLISH
UID:789acf8d-b7df-49f4-8a80-37dab70c4f34
X-WR-CALDESC:
X-WR-RELCALID:21c82734faba74c94435e1cd4874b10a
X-WR-TIMEZONE:America/Chicago
BEGIN:VTIMEZONE
TZID:America/Chicago
BEGIN:STANDARD
TZNAME:CST
DTSTART:20251102T020000
TZOFFSETFROM:-0500
TZOFFSETTO:-0600
RDATE:20261101T020000
RDATE:20271107T020000
END:STANDARD
BEGIN:DAYLIGHT
TZNAME:CDT
DTSTART:20260308T020000
TZOFFSETFROM:-0600
TZOFFSETTO:-0500
RDATE:20270314T020000
RDATE:20280312T020000
END:DAYLIGHT
END:VTIMEZONE
BEGIN:VEVENT
UID:9276689c-ffa3-4b32-ad0f-5a15ac7bd791
DTSTAMP:20260422T151104Z
DESCRIPTION:
DTSTART;TZID=America/Chicago:20260925T120000
DTEND;TZID=America/Chicago:20260925T130000
LOCATION:
SUMMARY:Board Meeting
END:VEVENT
END:VCALENDAR
