BEGIN:VCALENDAR
VERSION:2.0
PRODID:-//casakc.org//NONSGML kigkonsult.se iCalcreator 2.30.10//
CALSCALE:GREGORIAN
METHOD:PUBLISH
UID:387fb850-aed8-4aed-9dcb-06fd85016c02
X-WR-CALDESC:
X-WR-RELCALID:fa807a98a362d15a3735156c2f99034e
X-WR-TIMEZONE:America/Chicago
BEGIN:VTIMEZONE
TZID:America/Chicago
BEGIN:STANDARD
TZNAME:CST
DTSTART:20251102T020000
TZOFFSETFROM:-0500
TZOFFSETTO:-0600
RDATE:20261101T020000
RDATE:20271107T020000
END:STANDARD
BEGIN:DAYLIGHT
TZNAME:CDT
DTSTART:20260308T020000
TZOFFSETFROM:-0600
TZOFFSETTO:-0500
RDATE:20270314T020000
RDATE:20280312T020000
END:DAYLIGHT
END:VTIMEZONE
BEGIN:VEVENT
UID:a7a94ee2-fb9a-48a0-aad7-ff491658177d
DTSTAMP:20260422T165628Z
DESCRIPTION:
DTSTART;TZID=America/Chicago:20261023T120000
DTEND;TZID=America/Chicago:20261023T130000
LOCATION:
SUMMARY:Board Meeting
END:VEVENT
END:VCALENDAR
