BEGIN:VCALENDAR
VERSION:2.0
PRODID:-//casakc.org//NONSGML kigkonsult.se iCalcreator 2.30.10//
CALSCALE:GREGORIAN
METHOD:PUBLISH
UID:42528aad-9e2f-4e2f-b00a-c0b6d1f7f9cf
X-WR-CALDESC:
X-WR-RELCALID:c101e855e805956d0f102212d5553c38
X-WR-TIMEZONE:America/Chicago
BEGIN:VTIMEZONE
TZID:America/Chicago
BEGIN:STANDARD
TZNAME:CST
DTSTART:20261101T020000
TZOFFSETFROM:-0500
TZOFFSETTO:-0600
RDATE:20271107T020000
END:STANDARD
BEGIN:DAYLIGHT
TZNAME:CDT
DTSTART:20260308T020000
TZOFFSETFROM:-0600
TZOFFSETTO:-0500
RDATE:20270314T020000
RDATE:20280312T020000
END:DAYLIGHT
END:VTIMEZONE
BEGIN:VEVENT
UID:c5ff1ca6-33c5-41ea-a2f2-d26e520b6801
DTSTAMP:20260424T103500Z
DESCRIPTION:
DTSTART;TZID=America/Chicago:20270122T120000
DTEND;TZID=America/Chicago:20270122T130000
LOCATION:
SUMMARY:Board Meeting
END:VEVENT
END:VCALENDAR
