BEGIN:VCALENDAR
VERSION:2.0
PRODID:-//casakc.org//NONSGML kigkonsult.se iCalcreator 2.30.10//
CALSCALE:GREGORIAN
METHOD:PUBLISH
UID:688aaf75-523b-44ec-a816-c101636473d7
X-WR-CALDESC:
X-WR-RELCALID:5e9a42fcb74dd35c924ef8590746389b
X-WR-TIMEZONE:America/Chicago
BEGIN:VTIMEZONE
TZID:America/Chicago
BEGIN:STANDARD
TZNAME:CST
DTSTART:20261101T020000
TZOFFSETFROM:-0500
TZOFFSETTO:-0600
RDATE:20271107T020000
END:STANDARD
BEGIN:DAYLIGHT
TZNAME:CDT
DTSTART:20270314T020000
TZOFFSETFROM:-0600
TZOFFSETTO:-0500
RDATE:20280312T020000
END:DAYLIGHT
END:VTIMEZONE
BEGIN:VEVENT
UID:64e263f2-27d2-44fe-b422-69b7a06ef204
DTSTAMP:20260423T002720Z
DESCRIPTION:
DTSTART;TZID=America/Chicago:20270326T120000
DTEND;TZID=America/Chicago:20270326T130000
LOCATION:
SUMMARY:Board Meeting
END:VEVENT
END:VCALENDAR
