BEGIN:VCALENDAR
VERSION:2.0
PRODID:-//casakc.org//NONSGML kigkonsult.se iCalcreator 2.30.10//
CALSCALE:GREGORIAN
METHOD:PUBLISH
UID:c54e1af0-26c5-4768-9a6f-39473dd02ff8
X-WR-CALDESC:
X-WR-RELCALID:344e7a3e2e43e3478ce0b7e45e0c74ef
X-WR-TIMEZONE:America/Chicago
BEGIN:VTIMEZONE
TZID:America/Chicago
BEGIN:STANDARD
TZNAME:CST
DTSTART:20261101T020000
TZOFFSETFROM:-0500
TZOFFSETTO:-0600
RDATE:20271107T020000
RDATE:20281105T020000
END:STANDARD
BEGIN:DAYLIGHT
TZNAME:CDT
DTSTART:20270314T020000
TZOFFSETFROM:-0600
TZOFFSETTO:-0500
RDATE:20280312T020000
END:DAYLIGHT
END:VTIMEZONE
BEGIN:VEVENT
UID:1dbd516d-14d2-4212-bb70-8718ad498e91
DTSTAMP:20260423T031248Z
DESCRIPTION:
DTSTART;TZID=America/Chicago:20270528T120000
DTEND;TZID=America/Chicago:20270528T130000
LOCATION:
SUMMARY:Board Meeting
END:VEVENT
END:VCALENDAR
