BEGIN:VCALENDAR
VERSION:2.0
PRODID:-//casakc.org//NONSGML kigkonsult.se iCalcreator 2.30.10//
CALSCALE:GREGORIAN
METHOD:PUBLISH
UID:d73243a8-e575-42b9-93f2-43f03643ef14
X-WR-CALDESC:
X-WR-RELCALID:28ec1d900196039d6297653fd4234f4f
X-WR-TIMEZONE:America/Chicago
BEGIN:VTIMEZONE
TZID:America/Chicago
BEGIN:STANDARD
TZNAME:CST
DTSTART:20261101T020000
TZOFFSETFROM:-0500
TZOFFSETTO:-0600
RDATE:20271107T020000
RDATE:20281105T020000
END:STANDARD
BEGIN:DAYLIGHT
TZNAME:CDT
DTSTART:20270314T020000
TZOFFSETFROM:-0600
TZOFFSETTO:-0500
RDATE:20280312T020000
END:DAYLIGHT
END:VTIMEZONE
BEGIN:VEVENT
UID:0e0530bc-4e02-417a-a1c1-6adce7e1de2e
DTSTAMP:20260423T062724Z
DESCRIPTION:
DTSTART;TZID=America/Chicago:20270723T120000
DTEND;TZID=America/Chicago:20270723T130000
LOCATION:
SUMMARY:Board Meeting
END:VEVENT
END:VCALENDAR
