BEGIN:VCALENDAR
VERSION:2.0
PRODID:-//casakc.org//NONSGML kigkonsult.se iCalcreator 2.30.10//
CALSCALE:GREGORIAN
METHOD:PUBLISH
UID:1b9b4fa8-1403-438c-9978-de78f3038ae6
X-WR-CALDESC:
X-WR-RELCALID:f68c4bd737c90a8d1e3586caf220f5e3
X-WR-TIMEZONE:America/Chicago
BEGIN:VTIMEZONE
TZID:America/Chicago
BEGIN:STANDARD
TZNAME:CST
DTSTART:20261101T020000
TZOFFSETFROM:-0500
TZOFFSETTO:-0600
RDATE:20271107T020000
RDATE:20281105T020000
END:STANDARD
BEGIN:DAYLIGHT
TZNAME:CDT
DTSTART:20270314T020000
TZOFFSETFROM:-0600
TZOFFSETTO:-0500
RDATE:20280312T020000
END:DAYLIGHT
END:VTIMEZONE
BEGIN:VEVENT
UID:d39bd13e-ad1e-41fb-8b6e-62b38c790e77
DTSTAMP:20260423T075155Z
DESCRIPTION:
DTSTART;TZID=America/Chicago:20270827T120000
DTEND;TZID=America/Chicago:20270827T130000
LOCATION:
SUMMARY:Board Meeting
END:VEVENT
END:VCALENDAR
