BEGIN:VCALENDAR
VERSION:2.0
PRODID:-//casakc.org//NONSGML kigkonsult.se iCalcreator 2.30.10//
CALSCALE:GREGORIAN
METHOD:PUBLISH
UID:0cdb9a7d-de6d-4b90-b6e0-9d1f26ee13ac
X-WR-CALDESC:
X-WR-RELCALID:de3cdfd6943c832495408e2c2631f9ac
X-WR-TIMEZONE:America/Chicago
BEGIN:VTIMEZONE
TZID:America/Chicago
BEGIN:STANDARD
TZNAME:CST
DTSTART:20261101T020000
TZOFFSETFROM:-0500
TZOFFSETTO:-0600
RDATE:20271107T020000
RDATE:20281105T020000
END:STANDARD
BEGIN:DAYLIGHT
TZNAME:CDT
DTSTART:20270314T020000
TZOFFSETFROM:-0600
TZOFFSETTO:-0500
RDATE:20280312T020000
RDATE:20290311T020000
END:DAYLIGHT
END:VTIMEZONE
BEGIN:VEVENT
UID:92602b11-2356-442f-ae17-a99fb623484b
DTSTAMP:20260423T093246Z
DESCRIPTION:
DTSTART;TZID=America/Chicago:20270924T120000
DTEND;TZID=America/Chicago:20270924T130000
LOCATION:
SUMMARY:Board Meeting
END:VEVENT
END:VCALENDAR
