BEGIN:VCALENDAR
VERSION:2.0
PRODID:-//casakc.org//NONSGML kigkonsult.se iCalcreator 2.30.10//
CALSCALE:GREGORIAN
METHOD:PUBLISH
UID:d4c4ca20-1ed9-4b7f-bcf3-87f2fd3e8740
X-WR-CALDESC:
X-WR-RELCALID:7898125ea4d69b4d716347c637463e2c
X-WR-TIMEZONE:America/Chicago
BEGIN:VTIMEZONE
TZID:America/Chicago
BEGIN:STANDARD
TZNAME:CST
DTSTART:20261101T020000
TZOFFSETFROM:-0500
TZOFFSETTO:-0600
RDATE:20271107T020000
RDATE:20281105T020000
END:STANDARD
BEGIN:DAYLIGHT
TZNAME:CDT
DTSTART:20270314T020000
TZOFFSETFROM:-0600
TZOFFSETTO:-0500
RDATE:20280312T020000
RDATE:20290311T020000
END:DAYLIGHT
END:VTIMEZONE
BEGIN:VEVENT
UID:722c9a2f-a671-40e4-8a31-c021ba26cf35
DTSTAMP:20260423T105322Z
DESCRIPTION:
DTSTART;TZID=America/Chicago:20271022T120000
DTEND;TZID=America/Chicago:20271022T130000
LOCATION:
SUMMARY:Board Meeting
END:VEVENT
END:VCALENDAR
