BEGIN:VCALENDAR
VERSION:2.0
PRODID:-//casakc.org//NONSGML kigkonsult.se iCalcreator 2.30.10//
CALSCALE:GREGORIAN
METHOD:PUBLISH
UID:6c3d4ae6-d8ef-42bc-9855-93cd1fad7eb8
X-WR-CALDESC:
X-WR-RELCALID:56dcfaa27df4a2f57baea7e895466345
X-WR-TIMEZONE:America/Chicago
BEGIN:VTIMEZONE
TZID:America/Chicago
BEGIN:STANDARD
TZNAME:CST
DTSTART:20271107T020000
TZOFFSETFROM:-0500
TZOFFSETTO:-0600
RDATE:20281105T020000
END:STANDARD
BEGIN:DAYLIGHT
TZNAME:CDT
DTSTART:20270314T020000
TZOFFSETFROM:-0600
TZOFFSETTO:-0500
RDATE:20280312T020000
RDATE:20290311T020000
END:DAYLIGHT
END:VTIMEZONE
BEGIN:VEVENT
UID:c3d46dfc-a8cb-47b1-a327-cfa87afaf560
DTSTAMP:20260423T122635Z
DESCRIPTION:
DTSTART;TZID=America/Chicago:20271126T120000
DTEND;TZID=America/Chicago:20271126T130000
LOCATION:
SUMMARY:Board Meeting
END:VEVENT
END:VCALENDAR
