BEGIN:VCALENDAR
VERSION:2.0
PRODID:-//casakc.org//NONSGML kigkonsult.se iCalcreator 2.30.10//
CALSCALE:GREGORIAN
METHOD:PUBLISH
UID:bafcb9bc-4689-40d0-b75e-3a749623cefe
X-WR-CALDESC:
X-WR-RELCALID:55b39a940fc8f2882931c941c4f9d720
X-WR-TIMEZONE:America/Chicago
BEGIN:VTIMEZONE
TZID:America/Chicago
BEGIN:STANDARD
TZNAME:CST
DTSTART:20271107T020000
TZOFFSETFROM:-0500
TZOFFSETTO:-0600
RDATE:20281105T020000
END:STANDARD
BEGIN:DAYLIGHT
TZNAME:CDT
DTSTART:20270314T020000
TZOFFSETFROM:-0600
TZOFFSETTO:-0500
RDATE:20280312T020000
RDATE:20290311T020000
END:DAYLIGHT
END:VTIMEZONE
BEGIN:VEVENT
UID:44e510b4-bb22-46a1-8b99-ed4f5d885792
DTSTAMP:20260423T145416Z
DESCRIPTION:
DTSTART;TZID=America/Chicago:20271224T120000
DTEND;TZID=America/Chicago:20271224T130000
LOCATION:
SUMMARY:Board Meeting
END:VEVENT
END:VCALENDAR
