BEGIN:VCALENDAR
VERSION:2.0
PRODID:-//casakc.org//NONSGML kigkonsult.se iCalcreator 2.30.10//
CALSCALE:GREGORIAN
METHOD:PUBLISH
UID:984484ad-c142-49b0-b4f4-f7935bf38546
X-WR-CALDESC:
X-WR-RELCALID:268a59163e4116efbd17a4d98e248cc4
X-WR-TIMEZONE:America/Chicago
BEGIN:VTIMEZONE
TZID:America/Chicago
BEGIN:STANDARD
TZNAME:CST
DTSTART:20271107T020000
TZOFFSETFROM:-0500
TZOFFSETTO:-0600
RDATE:20281105T020000
END:STANDARD
BEGIN:DAYLIGHT
TZNAME:CDT
DTSTART:20270314T020000
TZOFFSETFROM:-0600
TZOFFSETTO:-0500
RDATE:20280312T020000
RDATE:20290311T020000
END:DAYLIGHT
END:VTIMEZONE
BEGIN:VEVENT
UID:357230b4-c3d2-4194-9e11-5fe6a779ae38
DTSTAMP:20260423T160110Z
DESCRIPTION:
DTSTART;TZID=America/Chicago:20280128T120000
DTEND;TZID=America/Chicago:20280128T130000
LOCATION:
SUMMARY:Board Meeting
END:VEVENT
END:VCALENDAR
