BEGIN:VCALENDAR
VERSION:2.0
PRODID:-//casakc.org//NONSGML kigkonsult.se iCalcreator 2.30.10//
CALSCALE:GREGORIAN
METHOD:PUBLISH
UID:4425f067-2091-4660-abdc-6af71ae48288
X-WR-CALDESC:
X-WR-RELCALID:5850ae9650885924aa4e5ccfe89ce758
X-WR-TIMEZONE:America/Chicago
BEGIN:VTIMEZONE
TZID:America/Chicago
BEGIN:STANDARD
TZNAME:CST
DTSTART:20271107T020000
TZOFFSETFROM:-0500
TZOFFSETTO:-0600
RDATE:20281105T020000
END:STANDARD
BEGIN:DAYLIGHT
TZNAME:CDT
DTSTART:20280312T020000
TZOFFSETFROM:-0600
TZOFFSETTO:-0500
RDATE:20290311T020000
END:DAYLIGHT
END:VTIMEZONE
BEGIN:VEVENT
UID:83e4f257-fa99-4d8e-ae54-b4d16bd74005
DTSTAMP:20260423T204330Z
DESCRIPTION:
DTSTART;TZID=America/Chicago:20280428T120000
DTEND;TZID=America/Chicago:20280428T130000
LOCATION:
SUMMARY:Board Meeting
END:VEVENT
END:VCALENDAR
