BEGIN:VCALENDAR
VERSION:2.0
PRODID:-//casakc.org//NONSGML kigkonsult.se iCalcreator 2.30.10//
CALSCALE:GREGORIAN
METHOD:PUBLISH
UID:5ef76bfd-c707-466c-814c-ea611e6b3c07
X-WR-CALDESC:
X-WR-RELCALID:6893a5f8f557331949f67ed84a080307
X-WR-TIMEZONE:America/Chicago
BEGIN:VTIMEZONE
TZID:America/Chicago
BEGIN:STANDARD
TZNAME:CST
DTSTART:20271107T020000
TZOFFSETFROM:-0500
TZOFFSETTO:-0600
RDATE:20281105T020000
RDATE:20291104T020000
END:STANDARD
BEGIN:DAYLIGHT
TZNAME:CDT
DTSTART:20280312T020000
TZOFFSETFROM:-0600
TZOFFSETTO:-0500
RDATE:20290311T020000
END:DAYLIGHT
END:VTIMEZONE
BEGIN:VEVENT
UID:e6cbdd0b-c560-4c41-90e7-36810f83663f
DTSTAMP:20260423T222528Z
DESCRIPTION:
DTSTART;TZID=America/Chicago:20280526T120000
DTEND;TZID=America/Chicago:20280526T130000
LOCATION:
SUMMARY:Board Meeting
END:VEVENT
END:VCALENDAR
