BEGIN:VCALENDAR
VERSION:2.0
PRODID:-//casakc.org//NONSGML kigkonsult.se iCalcreator 2.30.10//
CALSCALE:GREGORIAN
METHOD:PUBLISH
UID:11fcd23a-ed96-44d5-86df-137dc72907bd
X-WR-CALDESC:
X-WR-RELCALID:bd7608525376279fbea4358b0bc54634
X-WR-TIMEZONE:America/Chicago
BEGIN:VTIMEZONE
TZID:America/Chicago
BEGIN:STANDARD
TZNAME:CST
DTSTART:20271107T020000
TZOFFSETFROM:-0500
TZOFFSETTO:-0600
RDATE:20281105T020000
RDATE:20291104T020000
END:STANDARD
BEGIN:DAYLIGHT
TZNAME:CDT
DTSTART:20280312T020000
TZOFFSETFROM:-0600
TZOFFSETTO:-0500
RDATE:20290311T020000
END:DAYLIGHT
END:VTIMEZONE
BEGIN:VEVENT
UID:d6bc9d94-73e7-4671-83e4-64585a709a71
DTSTAMP:20260424T013352Z
DESCRIPTION:
DTSTART;TZID=America/Chicago:20280728T120000
DTEND;TZID=America/Chicago:20280728T130000
LOCATION:
SUMMARY:Board Meeting
END:VEVENT
END:VCALENDAR
