BEGIN:VCALENDAR
VERSION:2.0
PRODID:-//casakc.org//NONSGML kigkonsult.se iCalcreator 2.30.10//
CALSCALE:GREGORIAN
METHOD:PUBLISH
UID:ede062fd-4df1-49ea-a417-594a165b4ed6
X-WR-CALDESC:
X-WR-RELCALID:4dca6163ee380b68fd119dff02dae935
X-WR-TIMEZONE:America/Chicago
BEGIN:VTIMEZONE
TZID:America/Chicago
BEGIN:STANDARD
TZNAME:CST
DTSTART:20271107T020000
TZOFFSETFROM:-0500
TZOFFSETTO:-0600
RDATE:20281105T020000
RDATE:20291104T020000
END:STANDARD
BEGIN:DAYLIGHT
TZNAME:CDT
DTSTART:20280312T020000
TZOFFSETFROM:-0600
TZOFFSETTO:-0500
RDATE:20290311T020000
END:DAYLIGHT
END:VTIMEZONE
BEGIN:VEVENT
UID:210065ad-b3b5-4d8d-b51c-7581c5f16cfa
DTSTAMP:20260424T024706Z
DESCRIPTION:
DTSTART;TZID=America/Chicago:20280825T120000
DTEND;TZID=America/Chicago:20280825T130000
LOCATION:
SUMMARY:Board Meeting
END:VEVENT
END:VCALENDAR
