BEGIN:VCALENDAR
VERSION:2.0
PRODID:-//casakc.org//NONSGML kigkonsult.se iCalcreator 2.30.10//
CALSCALE:GREGORIAN
METHOD:PUBLISH
UID:3c9d1115-1b19-473b-9392-00f2d95a9853
X-WR-CALDESC:
X-WR-RELCALID:0710e10cc0c2d78a421691e2385aa23a
X-WR-TIMEZONE:America/Chicago
BEGIN:VTIMEZONE
TZID:America/Chicago
BEGIN:STANDARD
TZNAME:CST
DTSTART:20271107T020000
TZOFFSETFROM:-0500
TZOFFSETTO:-0600
RDATE:20281105T020000
RDATE:20291104T020000
END:STANDARD
BEGIN:DAYLIGHT
TZNAME:CDT
DTSTART:20280312T020000
TZOFFSETFROM:-0600
TZOFFSETTO:-0500
RDATE:20290311T020000
RDATE:20300310T020000
END:DAYLIGHT
END:VTIMEZONE
BEGIN:VEVENT
UID:b466d7ad-ca83-4dd0-9d0d-ddb363c0e1b5
DTSTAMP:20260424T040838Z
DESCRIPTION:
DTSTART;TZID=America/Chicago:20280922T120000
DTEND;TZID=America/Chicago:20280922T130000
LOCATION:
SUMMARY:Board Meeting
END:VEVENT
END:VCALENDAR
