BEGIN:VCALENDAR
VERSION:2.0
PRODID:-//casakc.org//NONSGML kigkonsult.se iCalcreator 2.30.10//
CALSCALE:GREGORIAN
METHOD:PUBLISH
UID:1d18d7c5-494a-49aa-a0a0-b9fb3dbd72ee
X-WR-CALDESC:
X-WR-RELCALID:f91bad2b67933f4497c32c4724cc4abb
X-WR-TIMEZONE:America/Chicago
BEGIN:VTIMEZONE
TZID:America/Chicago
BEGIN:STANDARD
TZNAME:CST
DTSTART:20271107T020000
TZOFFSETFROM:-0500
TZOFFSETTO:-0600
RDATE:20281105T020000
RDATE:20291104T020000
END:STANDARD
BEGIN:DAYLIGHT
TZNAME:CDT
DTSTART:20280312T020000
TZOFFSETFROM:-0600
TZOFFSETTO:-0500
RDATE:20290311T020000
RDATE:20300310T020000
END:DAYLIGHT
END:VTIMEZONE
BEGIN:VEVENT
UID:07c9d942-984f-4317-a7d1-148a23442147
DTSTAMP:20260424T053050Z
DESCRIPTION:
DTSTART;TZID=America/Chicago:20281027T120000
DTEND;TZID=America/Chicago:20281027T130000
LOCATION:
SUMMARY:Board Meeting
END:VEVENT
END:VCALENDAR
