BEGIN:VCALENDAR
VERSION:2.0
PRODID:-//casakc.org//NONSGML kigkonsult.se iCalcreator 2.30.10//
CALSCALE:GREGORIAN
METHOD:PUBLISH
UID:d074621f-ec9f-495c-81fd-e42b0990cfc6
X-WR-CALDESC:
X-WR-RELCALID:75013060489dedade72c9800263e08f5
X-WR-TIMEZONE:America/Chicago
BEGIN:VTIMEZONE
TZID:America/Chicago
BEGIN:STANDARD
TZNAME:CST
DTSTART:20281105T020000
TZOFFSETFROM:-0500
TZOFFSETTO:-0600
RDATE:20291104T020000
END:STANDARD
BEGIN:DAYLIGHT
TZNAME:CDT
DTSTART:20280312T020000
TZOFFSETFROM:-0600
TZOFFSETTO:-0500
RDATE:20290311T020000
RDATE:20300310T020000
END:DAYLIGHT
END:VTIMEZONE
BEGIN:VEVENT
UID:fd873181-0998-4d03-8b8d-22845d739aff
DTSTAMP:20260424T065759Z
DESCRIPTION:
DTSTART;TZID=America/Chicago:20281124T120000
DTEND;TZID=America/Chicago:20281124T130000
LOCATION:
SUMMARY:Board Meeting
END:VEVENT
END:VCALENDAR
