BEGIN:VCALENDAR
VERSION:2.0
PRODID:-//casakc.org//NONSGML kigkonsult.se iCalcreator 2.30.10//
CALSCALE:GREGORIAN
METHOD:PUBLISH
UID:04e0e4f1-5140-4426-8e3e-f53e77f1e7bf
X-WR-CALDESC:
X-WR-RELCALID:d911e3f9fcdd1e6911212fd87018f39f
X-WR-TIMEZONE:America/Chicago
BEGIN:VTIMEZONE
TZID:America/Chicago
BEGIN:STANDARD
TZNAME:CST
DTSTART:20281105T020000
TZOFFSETFROM:-0500
TZOFFSETTO:-0600
RDATE:20291104T020000
END:STANDARD
BEGIN:DAYLIGHT
TZNAME:CDT
DTSTART:20280312T020000
TZOFFSETFROM:-0600
TZOFFSETTO:-0500
RDATE:20290311T020000
RDATE:20300310T020000
END:DAYLIGHT
END:VTIMEZONE
BEGIN:VEVENT
UID:b6e64a98-1443-4db3-9fa8-826420482e57
DTSTAMP:20260424T085357Z
DESCRIPTION:
DTSTART;TZID=America/Chicago:20281222T120000
DTEND;TZID=America/Chicago:20281222T130000
LOCATION:
SUMMARY:Board Meeting
END:VEVENT
END:VCALENDAR
