BEGIN:VCALENDAR
VERSION:2.0
PRODID:-//casakc.org//NONSGML kigkonsult.se iCalcreator 2.30.10//
CALSCALE:GREGORIAN
METHOD:PUBLISH
UID:47dadd76-bea0-44c6-8957-1a0b94a32a86
X-WR-CALDESC:
X-WR-RELCALID:e53eecef002c6a55a3e8765ef488151d
X-WR-TIMEZONE:America/Chicago
BEGIN:VTIMEZONE
TZID:America/Chicago
BEGIN:STANDARD
TZNAME:CST
DTSTART:20281105T020000
TZOFFSETFROM:-0500
TZOFFSETTO:-0600
RDATE:20291104T020000
END:STANDARD
BEGIN:DAYLIGHT
TZNAME:CDT
DTSTART:20290311T020000
TZOFFSETFROM:-0600
TZOFFSETTO:-0500
RDATE:20300310T020000
END:DAYLIGHT
END:VTIMEZONE
BEGIN:VEVENT
UID:8c21c57c-955c-4eb7-ade7-422f27201459
DTSTAMP:20260424T143529Z
DESCRIPTION:
DTSTART;TZID=America/Chicago:20290427T120000
DTEND;TZID=America/Chicago:20290427T130000
LOCATION:
SUMMARY:Board Meeting
END:VEVENT
END:VCALENDAR
