BEGIN:VCALENDAR
VERSION:2.0
PRODID:-//casakc.org//NONSGML kigkonsult.se iCalcreator 2.30.10//
CALSCALE:GREGORIAN
METHOD:PUBLISH
UID:8c3eb8ca-5476-4dde-8a9c-a6615bc7b7e9
X-WR-CALDESC:
X-WR-RELCALID:cd0dfcc25a428770442422164bedee92
X-WR-TIMEZONE:America/Chicago
BEGIN:VTIMEZONE
TZID:America/Chicago
BEGIN:STANDARD
TZNAME:CST
DTSTART:20281105T020000
TZOFFSETFROM:-0500
TZOFFSETTO:-0600
RDATE:20291104T020000
RDATE:20301103T020000
END:STANDARD
BEGIN:DAYLIGHT
TZNAME:CDT
DTSTART:20290311T020000
TZOFFSETFROM:-0600
TZOFFSETTO:-0500
RDATE:20300310T020000
END:DAYLIGHT
END:VTIMEZONE
BEGIN:VEVENT
UID:90069e6e-d56e-4d0f-b9de-873b5b260678
DTSTAMP:20260424T155149Z
DESCRIPTION:
DTSTART;TZID=America/Chicago:20290525T120000
DTEND;TZID=America/Chicago:20290525T130000
LOCATION:
SUMMARY:Board Meeting
END:VEVENT
END:VCALENDAR
