BEGIN:VCALENDAR
VERSION:2.0
PRODID:-//casakc.org//NONSGML kigkonsult.se iCalcreator 2.30.10//
CALSCALE:GREGORIAN
METHOD:PUBLISH
UID:9c9414e8-febc-40b2-abca-77e6101643e9
X-WR-CALDESC:
X-WR-RELCALID:7ff4aff90bfed0a9f9fef68d9516e328
X-WR-TIMEZONE:America/Chicago
BEGIN:VTIMEZONE
TZID:America/Chicago
BEGIN:STANDARD
TZNAME:CST
DTSTART:20281105T020000
TZOFFSETFROM:-0500
TZOFFSETTO:-0600
RDATE:20291104T020000
RDATE:20301103T020000
END:STANDARD
BEGIN:DAYLIGHT
TZNAME:CDT
DTSTART:20290311T020000
TZOFFSETFROM:-0600
TZOFFSETTO:-0500
RDATE:20300310T020000
END:DAYLIGHT
END:VTIMEZONE
BEGIN:VEVENT
UID:cc4fbcfc-f666-4a87-b60c-9a809cc59d27
DTSTAMP:20260424T172533Z
DESCRIPTION:
DTSTART;TZID=America/Chicago:20290622T120000
DTEND;TZID=America/Chicago:20290622T130000
LOCATION:
SUMMARY:Board Meeting
END:VEVENT
END:VCALENDAR
