BEGIN:VCALENDAR
VERSION:2.0
PRODID:-//casakc.org//NONSGML kigkonsult.se iCalcreator 2.30.10//
CALSCALE:GREGORIAN
METHOD:PUBLISH
UID:7939d3a2-aecb-499a-8419-325934e5d192
X-WR-CALDESC:
X-WR-RELCALID:1556dc42c7322be17c3b46a75cd34b8f
X-WR-TIMEZONE:America/Chicago
BEGIN:VTIMEZONE
TZID:America/Chicago
BEGIN:STANDARD
TZNAME:CST
DTSTART:20281105T020000
TZOFFSETFROM:-0500
TZOFFSETTO:-0600
RDATE:20291104T020000
RDATE:20301103T020000
END:STANDARD
BEGIN:DAYLIGHT
TZNAME:CDT
DTSTART:20290311T020000
TZOFFSETFROM:-0600
TZOFFSETTO:-0500
RDATE:20300310T020000
END:DAYLIGHT
END:VTIMEZONE
BEGIN:VEVENT
UID:47f1c8f8-8d93-4f8e-adc7-aa5f4e1096bb
DTSTAMP:20260424T183421Z
DESCRIPTION:
DTSTART;TZID=America/Chicago:20290727T120000
DTEND;TZID=America/Chicago:20290727T130000
LOCATION:
SUMMARY:Board Meeting
END:VEVENT
END:VCALENDAR
