BEGIN:VCALENDAR
VERSION:2.0
PRODID:-//casakc.org//NONSGML kigkonsult.se iCalcreator 2.30.10//
CALSCALE:GREGORIAN
METHOD:PUBLISH
UID:43a3facf-4f5f-401a-98b4-c9219b213170
X-WR-CALDESC:
X-WR-RELCALID:c9b05ae1e0560016bb91fdea37d9791f
X-WR-TIMEZONE:America/Chicago
BEGIN:VTIMEZONE
TZID:America/Chicago
BEGIN:STANDARD
TZNAME:CST
DTSTART:20281105T020000
TZOFFSETFROM:-0500
TZOFFSETTO:-0600
RDATE:20291104T020000
RDATE:20301103T020000
END:STANDARD
BEGIN:DAYLIGHT
TZNAME:CDT
DTSTART:20290311T020000
TZOFFSETFROM:-0600
TZOFFSETTO:-0500
RDATE:20300310T020000
END:DAYLIGHT
END:VTIMEZONE
BEGIN:VEVENT
UID:a4a16c81-5fc1-45fb-827d-489609cacb46
DTSTAMP:20260424T194909Z
DESCRIPTION:
DTSTART;TZID=America/Chicago:20290824T120000
DTEND;TZID=America/Chicago:20290824T130000
LOCATION:
SUMMARY:Board Meeting
END:VEVENT
END:VCALENDAR
