BEGIN:VCALENDAR
VERSION:2.0
PRODID:-//casakc.org//NONSGML kigkonsult.se iCalcreator 2.30.10//
CALSCALE:GREGORIAN
METHOD:PUBLISH
UID:a88f7d66-2cd3-4d71-a090-9c6bc3b9658b
X-WR-CALDESC:
X-WR-RELCALID:df8cd78299b4c4a78d8ff2d1423f8a36
X-WR-TIMEZONE:America/Chicago
BEGIN:VTIMEZONE
TZID:America/Chicago
BEGIN:STANDARD
TZNAME:CST
DTSTART:20281105T020000
TZOFFSETFROM:-0500
TZOFFSETTO:-0600
RDATE:20291104T020000
RDATE:20301103T020000
END:STANDARD
BEGIN:DAYLIGHT
TZNAME:CDT
DTSTART:20290311T020000
TZOFFSETFROM:-0600
TZOFFSETTO:-0500
RDATE:20300310T020000
RDATE:20310309T020000
END:DAYLIGHT
END:VTIMEZONE
BEGIN:VEVENT
UID:76ceb3e0-8db4-4731-a2e9-d5d5f6c0c7ad
DTSTAMP:20260424T224035Z
DESCRIPTION:
DTSTART;TZID=America/Chicago:20291026T120000
DTEND;TZID=America/Chicago:20291026T130000
LOCATION:
SUMMARY:Board Meeting
END:VEVENT
END:VCALENDAR
