BEGIN:VCALENDAR
VERSION:2.0
PRODID:-//casakc.org//NONSGML kigkonsult.se iCalcreator 2.30.10//
CALSCALE:GREGORIAN
METHOD:PUBLISH
UID:ebbe443d-1e81-44d2-bb7a-a6f7b8587b63
X-WR-CALDESC:
X-WR-RELCALID:047e44e5f753c57da6354e69144c2a87
X-WR-TIMEZONE:America/Chicago
BEGIN:VTIMEZONE
TZID:America/Chicago
BEGIN:STANDARD
TZNAME:CST
DTSTART:20291104T020000
TZOFFSETFROM:-0500
TZOFFSETTO:-0600
RDATE:20301103T020000
END:STANDARD
BEGIN:DAYLIGHT
TZNAME:CDT
DTSTART:20290311T020000
TZOFFSETFROM:-0600
TZOFFSETTO:-0500
RDATE:20300310T020000
RDATE:20310309T020000
END:DAYLIGHT
END:VTIMEZONE
BEGIN:VEVENT
UID:193ec2ff-f87b-454e-9a4a-086ef92a24fd
DTSTAMP:20260425T001535Z
DESCRIPTION:
DTSTART;TZID=America/Chicago:20291123T120000
DTEND;TZID=America/Chicago:20291123T130000
LOCATION:
SUMMARY:Board Meeting
END:VEVENT
END:VCALENDAR
